BEGIN:VCALENDAR
VERSION:2.0
PRODID:-//ChamberMaster//Event Calendar 2.0//EN
METHOD:PUBLISH
X-PUBLISHED-TTL:P3D
REFRESH-INTERVAL:P3D
CALSCALE:GREGORIAN
BEGIN:VEVENT
DTSTART:20261116T170000Z
DTEND:20261116T230000Z
X-MICROSOFT-CDO-ALLDAYEVENT:FALSE
SUMMARY:Young Professionals Summit
DESCRIPTION:More information to come
X-ALT-DESC;FMTTYPE=text/html:More information to come
LOCATION:
UID:e.1648.16343
SEQUENCE:3
DTSTAMP:20260419T155327Z
URL:http://tylerarea.sampleorg.com/events/details/young-professionals-summit-16343
END:VEVENT

END:VCALENDAR
