BEGIN:VCALENDAR
VERSION:2.0
PRODID:-//ChamberMaster//Event Calendar 2.0//EN
METHOD:PUBLISH
X-PUBLISHED-TTL:P3D
REFRESH-INTERVAL:P3D
CALSCALE:GREGORIAN
BEGIN:VEVENT
DTSTART:20250406T000000Z
DTEND:20250406T050000Z
X-MICROSOFT-CDO-ALLDAYEVENT:FALSE
SUMMARY:Women's Symphony League Ball
DESCRIPTION:The annual fundraiser and presentation of senior Junior Symphony League members will occur at the W.T. Brookshire Conference Center on April 5th\, 2025.
X-ALT-DESC;FMTTYPE=text/html:The annual fundraiser and presentation of senior Junior Symphony League members will occur at the W.T. Brookshire Conference Center on April 5th\, 2025.
LOCATION:W.T. Brookshire Conference Center
UID:e.1648.15781
SEQUENCE:3
DTSTAMP:20260420T011525Z
URL:http://tylerarea.sampleorg.com/events/details/women-s-symphony-league-ball-15781
END:VEVENT

END:VCALENDAR
