BEGIN:VCALENDAR
VERSION:2.0
PRODID:-//ChamberMaster//Event Calendar 2.0//EN
METHOD:PUBLISH
X-PUBLISHED-TTL:P3D
REFRESH-INTERVAL:P3D
CALSCALE:GREGORIAN
BEGIN:VEVENT
DTSTART:20250510T140000Z
DTEND:20250510T170000Z
X-MICROSOFT-CDO-ALLDAYEVENT:FALSE
SUMMARY:Women's Health Symposium
DESCRIPTION:Join UT Tyler School of Medicine in promoting women's health and services in East Texas. Local vendors and healthcare providers will showcase their services\, and faculty providers from theUT Tyler Department of Women's Health will present on a range of important women's health topics\, including breast care\, menopause and more.
X-ALT-DESC;FMTTYPE=text/html:Join UT Tyler School of Medicine in promoting women&#39\;s health and services in East Texas. Local vendors and healthcare providers will showcase their services\, and faculty providers from theUT Tyler Department of Women&#39\;s Health will present on a range of important women&#39\;s health topics\, including breast care\, menopause and more.
LOCATION:Bergfeld Park
UID:e.1648.16053
SEQUENCE:3
DTSTAMP:20260419T234617Z
URL:http://tylerarea.sampleorg.com/events/details/women-s-health-symposium-16053
END:VEVENT

END:VCALENDAR
