BEGIN:VCALENDAR
VERSION:2.0
PRODID:-//ChamberMaster//Event Calendar 2.0//EN
METHOD:PUBLISH
X-PUBLISHED-TTL:P3D
REFRESH-INTERVAL:P3D
CALSCALE:GREGORIAN
BEGIN:VEVENT
DTSTART:20250223T000000Z
DTEND:20250223T030000Z
X-MICROSOFT-CDO-ALLDAYEVENT:FALSE
SUMMARY:Winter Formal on Ice
DESCRIPTION:Glide into a night of fun & elegance! Put on your finest attire and join Discovery Science Place for an enchanting evening filled with: Ice Skating on our glimmering rink\, music and dancing to your favorite tunes\, refreshments\, and photo opportunities to capture your special moments. This magical night is designed to celebrate the cherished bond between fathers (or father figures) and their daughters. All ages are welcome to this family-friendly event!
X-ALT-DESC;FMTTYPE=text/html:Glide into a night of fun &amp\; elegance! Put on your finest attire and join Discovery Science Place for an enchanting evening filled with: Ice Skating on our glimmering rink\, music and dancing to your favorite tunes\, refreshments\, and photo opportunities to capture your special moments. This magical night is designed to celebrate the cherished bond between fathers (or father figures) and their daughters. All ages are welcome to this family-friendly event!
LOCATION:308 N. Broadway Tyler\, TX 75702
UID:e.1648.15989
SEQUENCE:3
DTSTAMP:20260420T024702Z
URL:http://tylerarea.sampleorg.com/events/details/winter-formal-on-ice-15989
END:VEVENT

END:VCALENDAR
