BEGIN:VCALENDAR
VERSION:2.0
PRODID:-//ChamberMaster//Event Calendar 2.0//EN
METHOD:PUBLISH
X-PUBLISHED-TTL:P3D
REFRESH-INTERVAL:P3D
CALSCALE:GREGORIAN
BEGIN:VEVENT
DTSTART:20250406T000000Z
DTEND:20250406T020000Z
X-MICROSOFT-CDO-ALLDAYEVENT:FALSE
SUMMARY:Wilson Fairchild Live at Liberty Hall
DESCRIPTION:Wil & Langdon Reid are sons of the world famous Statler Brothers and will be bringing their dads' music to the stage of Liberty Hall! They'll treat the audience to traditional country tunes as well as some great gospel selections.
X-ALT-DESC;FMTTYPE=text/html:Wil &amp\; Langdon Reid are sons of the world famous Statler Brothers and will be bringing their dads&rsquo\; music to the stage of Liberty Hall! They&rsquo\;ll treat the audience to traditional country tunes as well as some great gospel selections.
LOCATION:Liberty Hall
UID:e.1648.16056
SEQUENCE:3
DTSTAMP:20260419T235253Z
URL:http://tylerarea.sampleorg.com/events/details/wilson-fairchild-live-at-liberty-hall-16056
END:VEVENT

END:VCALENDAR
