BEGIN:VCALENDAR
VERSION:2.0
PRODID:-//ChamberMaster//Event Calendar 2.0//EN
METHOD:PUBLISH
X-PUBLISHED-TTL:P3D
REFRESH-INTERVAL:P3D
CALSCALE:GREGORIAN
BEGIN:VEVENT
DTSTART:20250310T233000Z
DTEND:20250311T003000Z
X-MICROSOFT-CDO-ALLDAYEVENT:FALSE
SUMMARY:VFW Monthly Member Meeting
DESCRIPTION:VFW Post 1799 Monthly Meeting
X-ALT-DESC;FMTTYPE=text/html:VFW Post 1799 Monthly Meeting
LOCATION:14391 Rhodes Quarter Rd Tyler\, Texas 75703
UID:e.1648.15994
SEQUENCE:3
DTSTAMP:20260420T011647Z
URL:http://tylerarea.sampleorg.com/events/details/vfw-monthly-member-meeting-03-10-2025-15994
END:VEVENT

END:VCALENDAR
