BEGIN:VCALENDAR
VERSION:2.0
PRODID:-//ChamberMaster//Event Calendar 2.0//EN
METHOD:PUBLISH
X-PUBLISHED-TTL:P3D
REFRESH-INTERVAL:P3D
CALSCALE:GREGORIAN
BEGIN:VEVENT
DTSTART:20250412T180000Z
DTEND:20250412T200000Z
X-MICROSOFT-CDO-ALLDAYEVENT:FALSE
SUMMARY:UT Tyler's Annual Crawfish Boil & Tailgate
DESCRIPTION:Join us for the annual Homecoming Crawfish Boil before the Patriot softball and baseball games. Enjoy free food trucks\, tailgating\, fun activities and cheer on our Patriots.
X-ALT-DESC;FMTTYPE=text/html:Join us for the annual Homecoming Crawfish Boil before the Patriot softball and baseball games. Enjoy free food trucks\, tailgating\, fun activities and cheer on our Patriots.
LOCATION:Irwin Field\, UT Tyler Baseball Park\, 3214 Old Glory Rd\, Tyler\, TX 75799
UID:e.1648.16069
SEQUENCE:3
DTSTAMP:20260420T011347Z
URL:http://tylerarea.sampleorg.com/events/details/ut-tyler-s-annual-crawfish-boil-tailgate-16069
END:VEVENT

END:VCALENDAR
