BEGIN:VCALENDAR
VERSION:2.0
PRODID:-//ChamberMaster//Event Calendar 2.0//EN
METHOD:PUBLISH
X-PUBLISHED-TTL:P3D
REFRESH-INTERVAL:P3D
CALSCALE:GREGORIAN
BEGIN:VEVENT
DTSTART:20251004T160000Z
DTEND:20251004T223000Z
X-MICROSOFT-CDO-ALLDAYEVENT:FALSE
SUMMARY:UT Tyler Fall Fest
DESCRIPTION:SCHEDULE OF EVENTS Open to Community | 11 a.m.-5:30 p.m. | Herrington Patriot Center Parking Lot Food Trucks\, Beer Garden\, Bounce House\, Kid's Zone\, DJ\, Giveaways 2025 Patriot Days Chili Cook-Off 11 a.m.-1 p.m. | HPC Parking Lot UT Tyler Women's Soccer vs. Texas Woman's Open to Community | 1 p.m. | Citizens 1st Bank-Perkins Soccer Complex UT Tyler Volleyball vs. UT Dallas Open to Community | 2 p.m. | Herrington Patriot Center Gym UT Tyler Men's Soccer vs. West Texas A&M Open to Community | 4 p.m. | Citizens 1st Bank-Perkins Soccer Complex
X-ALT-DESC;FMTTYPE=text/html:SCHEDULE OF EVENTS Open to Community | 11 a.m.-5:30 p.m. | Herrington Patriot Center Parking Lot Food Trucks\, Beer Garden\, Bounce House\, Kid&#39\;s Zone\, DJ\, Giveaways 2025 Patriot Days Chili Cook-Off 11 a.m.-1 p.m. | HPC Parking Lot UT Tyler Women&#39\;s Soccer vs. Texas Woman&#39\;s Open to Community | 1 p.m. | Citizens 1st Bank-Perkins Soccer Complex UT Tyler Volleyball vs. UT Dallas Open to Community | 2 p.m. | Herrington Patriot Center Gym UT Tyler Men&#39\;s Soccer vs. West Texas A&amp\;M Open to Community | 4 p.m. | Citizens 1st Bank-Perkins Soccer Complex
LOCATION:UT Tyler Herrington Patriot Center 3080 Alumni Circle Tyler\, Texas 75799
UID:e.1648.16226
SEQUENCE:3
DTSTAMP:20260419T142736Z
URL:http://tylerarea.sampleorg.com/events/details/ut-tyler-fall-fest-16226
END:VEVENT

END:VCALENDAR
