BEGIN:VCALENDAR
VERSION:2.0
PRODID:-//ChamberMaster//Event Calendar 2.0//EN
METHOD:PUBLISH
X-PUBLISHED-TTL:P3D
REFRESH-INTERVAL:P3D
CALSCALE:GREGORIAN
BEGIN:VEVENT
DTSTART:20250412T023000Z
DTEND:20250412T030000Z
X-MICROSOFT-CDO-ALLDAYEVENT:FALSE
SUMMARY:UT Tyler Annual Homecoming Fireworks Show
DESCRIPTION:UT Tyler's Annual Fireworks Show + Special Pre-Show Surprise Addition. Park anywhere on campus at UT Tyler and walk to the lake in the center of campus.
X-ALT-DESC;FMTTYPE=text/html:UT Tyler&#39\;s Annual Fireworks Show + Special Pre-Show Surprise Addition. Park anywhere on campus at UT Tyler and walk to the lake in the center of campus.
LOCATION:UT Tyler Harvey Lake
UID:e.1648.16068
SEQUENCE:3
DTSTAMP:20260420T011527Z
URL:http://tylerarea.sampleorg.com/events/details/ut-tyler-annual-homecoming-fireworks-show-16068
END:VEVENT

END:VCALENDAR
