BEGIN:VCALENDAR
VERSION:2.0
PRODID:-//ChamberMaster//Event Calendar 2.0//EN
METHOD:PUBLISH
X-PUBLISHED-TTL:P3D
REFRESH-INTERVAL:P3D
CALSCALE:GREGORIAN
BEGIN:VEVENT
DTSTART:20250616T130000Z
DTEND:20250620T210000Z
X-MICROSOFT-CDO-ALLDAYEVENT:FALSE
SUMMARY:USHJA Emerging Athletes Program
DESCRIPTION:Emerging Athletes Program was created to provide opportunities for young riders to advance their horsemanship education and riding skills. Auditors welcome.
X-ALT-DESC;FMTTYPE=text/html:Emerging Athletes Program was created to provide opportunities for young riders to advance their horsemanship education and riding skills. Auditors welcome.
LOCATION:Texas Rose Horse Park
UID:e.1648.15938
SEQUENCE:3
DTSTAMP:20260419T203246Z
URL:http://tylerarea.sampleorg.com/events/details/ushja-emerging-athletes-program-15938
END:VEVENT

END:VCALENDAR
