BEGIN:VCALENDAR
VERSION:2.0
PRODID:-//ChamberMaster//Event Calendar 2.0//EN
METHOD:PUBLISH
X-PUBLISHED-TTL:P3D
REFRESH-INTERVAL:P3D
CALSCALE:GREGORIAN
BEGIN:VEVENT
DTSTART:20250801T220000Z
DTEND:20250802T030000Z
X-MICROSOFT-CDO-ALLDAYEVENT:FALSE
SUMMARY:United Way Kickoff Pickleball Tournament
DESCRIPTION:Each year in early August\, we celebrate the official start to United Way of Smith County's annual fundraising cycle with a Campaign Kickoff and Pickleball Tournament! The event helps fund the nonprofit partners of United Way\, which support the Tyler area community with access to services in Education\, Health & Wellness\, Financial Stability\, and Crisis Intervention. Your participation helps our neighbors in need!Registration includes dinner and tournament play. If you have family members or friends who would like to attend\, but not play\, please purchase Observer tickets\, which include dinner. Your participation helps our neighbors in need! 5pm: Dinner and Remarks from United Way Cash Bar onsite 6 10pm (approximately): Round Robin into Elimination Tournament
X-ALT-DESC;FMTTYPE=text/html:Each year in early August\, we celebrate the official start to United Way of Smith County&rsquo\;s annual fundraising cycle with a Campaign Kickoff and Pickleball Tournament! The event helps fund the nonprofit partners of United Way\, which support the Tyler area community with access to services in Education\, Health &amp\; Wellness\, Financial Stability\, and Crisis Intervention. Your participation helps our neighbors in need!Registration includes dinner and tournament play. If you have family members or friends who would like to attend\, but not play\, please purchase Observer tickets\, which include dinner. Your participation helps our neighbors in need! 5pm: Dinner and Remarks from United Way Cash Bar onsite 6&ndash\;10pm (approximately): Round Robin into Elimination Tournament
LOCATION:Tyler Racquet Club 2767 Oak Creek Blvd.
UID:e.1648.16157
SEQUENCE:3
DTSTAMP:20260419T180837Z
URL:http://tylerarea.sampleorg.com/events/details/united-way-kickoff-pickleball-tournament-16157
END:VEVENT

END:VCALENDAR
