BEGIN:VCALENDAR
VERSION:2.0
PRODID:-//ChamberMaster//Event Calendar 2.0//EN
METHOD:PUBLISH
X-PUBLISHED-TTL:P3D
REFRESH-INTERVAL:P3D
CALSCALE:GREGORIAN
BEGIN:VEVENT
DTSTART:20241221T150000Z
DTEND:20241222T040000Z
X-MICROSOFT-CDO-ALLDAYEVENT:FALSE
SUMMARY:Ugly Christmas Sweater Party at Torchy's Tacos - Tyler\, TX
DESCRIPTION:Dust off your ugliest\, most festive Christmas sweater and head to Torchy's Tacos for a day of holiday cheer\, delicious tacos\, and unforgettable fun! When: 12/21/24 Where: 426 E. Southeast Loop 323 Tyler\, Texas 75701. ?? What to Expect: A festive atmosphere to get you in the Christmas spirit. Tacos that are damn good (as always)! Prizes for the ugliest and most creative sweaters. (Queso Gold Card: FREE queso for a year) Come as you are or dressed to impress in your Christmas worst. For more details on this event\, store location\, and Torchy's\, visit: https://torchystacos.com/location/tyler/
X-ALT-DESC;FMTTYPE=text/html:Dust off your ugliest\, most festive Christmas sweater and head to Torchy&rsquo\;s Tacos for a day of holiday cheer\, delicious tacos\, and unforgettable fun! When: 12/21/24 Where: 426 E. Southeast Loop 323 Tyler\, Texas 75701. ?? What to Expect: A festive atmosphere to get you in the Christmas spirit. Tacos that are damn good (as always)! Prizes for the ugliest and most creative sweaters. (Queso Gold Card: FREE queso for a year) Come as you are or dressed to impress in your Christmas worst. For more details on this event\, store location\, and Torchy&#39\;s\, visit: https://torchystacos.com/location/tyler/
LOCATION:Torchy's Tacos - Tyler\, 426 E Southeast Loop 323\, Tyler\, TX\, 75701
UID:e.1648.15905
SEQUENCE:3
DTSTAMP:20260420T062004Z
URL:http://tylerarea.sampleorg.com/events/details/ugly-christmas-sweater-party-at-torchy-s-tacos-tyler-tx-15905
END:VEVENT

END:VCALENDAR
