BEGIN:VCALENDAR
VERSION:2.0
PRODID:-//ChamberMaster//Event Calendar 2.0//EN
METHOD:PUBLISH
X-PUBLISHED-TTL:P3D
REFRESH-INTERVAL:P3D
CALSCALE:GREGORIAN
BEGIN:VEVENT
DTSTART:20250411T130000Z
DTEND:20250413T210000Z
X-MICROSOFT-CDO-ALLDAYEVENT:FALSE
SUMMARY:Tyler Obedience Training Club
DESCRIPTION:Dog Agility competition. Fun for the entire family to watch!
X-ALT-DESC;FMTTYPE=text/html:Dog Agility competition. Fun for the entire family to watch!
LOCATION:Texas Rose Horse Park
UID:e.1648.15927
SEQUENCE:3
DTSTAMP:20260420T011528Z
URL:http://tylerarea.sampleorg.com/events/details/tyler-obedience-training-club-04-11-2025-15927
END:VEVENT

END:VCALENDAR
