BEGIN:VCALENDAR
VERSION:2.0
PRODID:-//ChamberMaster//Event Calendar 2.0//EN
METHOD:PUBLISH
X-PUBLISHED-TTL:P3D
REFRESH-INTERVAL:P3D
CALSCALE:GREGORIAN
BEGIN:VEVENT
DTSTART:20261211T140000Z
DTEND:20261213T210000Z
X-MICROSOFT-CDO-ALLDAYEVENT:FALSE
SUMMARY:Tyler Obedience Dog Training Show
DESCRIPTION:Dogs truly are our best friends! Come and check out an all dog breed agility competition. Dogs compete over & under obstables\, balancing and compete in qickness. Fun to watch for the whole family!
X-ALT-DESC;FMTTYPE=text/html:Dogs truly are our best friends! Come and check out an all dog breed agility competition. Dogs compete over &amp\; under obstables\, balancing and compete in qickness. Fun to watch for the whole family!
LOCATION:Texas Rose Horse Park
UID:e.1648.16329
SEQUENCE:3
DTSTAMP:20260419T173813Z
URL:http://tylerarea.sampleorg.com/events/details/tyler-obedience-dog-training-show-16329
END:VEVENT

END:VCALENDAR
