BEGIN:VCALENDAR
VERSION:2.0
PRODID:-//ChamberMaster//Event Calendar 2.0//EN
METHOD:PUBLISH
X-PUBLISHED-TTL:P3D
REFRESH-INTERVAL:P3D
CALSCALE:GREGORIAN
BEGIN:VEVENT
DTSTART:20250721T140000Z
DTEND:20250721T160000Z
X-MICROSOFT-CDO-ALLDAYEVENT:FALSE
SUMMARY:Tyler ISD Paraprofessional & Auxiliary Job Fair
DESCRIPTION:Join Tyler ISD for a hiring event focused on paraprofessional and auxiliary positions. We're looking for dedicated individuals ready to make a difference in education. Now hiring for:   Teacher Aides & Paraprofessionals   Special Education Support   Substitutes   Crossing Guards   Bus Drivers   Custodians   Food Service Workers This is a great opportunity to meet our team\, ask questions\, and find the right fit within our district.
X-ALT-DESC;FMTTYPE=text/html:Join Tyler ISD for a hiring event focused on paraprofessional and auxiliary positions. We&rsquo\;re looking for dedicated individuals ready to make a difference in education. Now hiring for: &bull\; Teacher Aides &amp\; Paraprofessionals &bull\; Special Education Support &bull\; Substitutes &bull\; Crossing Guards &bull\; Bus Drivers &bull\; Custodians &bull\; Food Service Workers This is a great opportunity to meet our team\, ask questions\, and find the right fit within our district.
LOCATION:Tyler Legacy High School Media Center\, 4500 Red Raider Dr.\, Tyler
UID:e.1648.16167
SEQUENCE:3
DTSTAMP:20260419T203936Z
URL:http://tylerarea.sampleorg.com/events/details/tyler-isd-paraprofessional-auxiliary-job-fair-07-21-2025-16167
END:VEVENT

END:VCALENDAR
