BEGIN:VCALENDAR
VERSION:2.0
PRODID:-//ChamberMaster//Event Calendar 2.0//EN
METHOD:PUBLISH
X-PUBLISHED-TTL:P3D
REFRESH-INTERVAL:P3D
CALSCALE:GREGORIAN
BEGIN:VEVENT
DTSTART:20240722T140000Z
DTEND:20240722T170000Z
X-MICROSOFT-CDO-ALLDAYEVENT:FALSE
SUMMARY:Tyler ISD Auxiliary Job Fair
DESCRIPTION:Join us on July 22 at our Auxiliary Job Fair event from 9 am to 12 pm at Legacy High School\, 4500 Red Raider Dr. Why? Because attending\, you can: ?? Visit with HR\, Department Staff and Principals ?? Interview right then Multiple positions are available for teacher aides\, paraprofessionals\, substitutes\, special education\, crossing guards\, bus drivers\, custodians\, and food service. ? Find your new career! We want to meet you! ??
X-ALT-DESC;FMTTYPE=text/html:Join us on July 22 at our Auxiliary Job Fair event from 9 am to 12 pm at Legacy High School\, 4500 Red Raider Dr. Why? Because attending\, you can: ?? Visit with HR\, Department Staff and Principals ?? Interview right then Multiple positions are available for teacher aides\, paraprofessionals\, substitutes\, special education\, crossing guards\, bus drivers\, custodians\, and food service. ? Find your new career! We want to meet you! ??
LOCATION:Tyler Legacy High School 4500 Red Raider Dr.
UID:e.1648.15752
SEQUENCE:3
DTSTAMP:20260420T133131Z
URL:http://tylerarea.sampleorg.com/events/details/tyler-isd-auxiliary-job-fair-15752
END:VEVENT

END:VCALENDAR
