BEGIN:VCALENDAR
VERSION:2.0
PRODID:-//ChamberMaster//Event Calendar 2.0//EN
METHOD:PUBLISH
X-PUBLISHED-TTL:P3D
REFRESH-INTERVAL:P3D
CALSCALE:GREGORIAN
BEGIN:VEVENT
DTSTART:20240629T230000Z
DTEND:20240630T000000Z
X-MICROSOFT-CDO-ALLDAYEVENT:FALSE
SUMMARY:Tyler Community Band Patriotic concert
DESCRIPTION:The Tyler Community Band\, directed by Mr. Mike Holbrook\, presents its annual patriotic concerts on Saturday\, June 29 at 6 p.m. at Southern Oaks Baptist Church. The patriotic concert offers a variety of music such as "This Land is Your Land"\, "The Genius of Ray Charles"\, and favorites "The Armed Forces Salute" and Sousa's "Stars and Stripes Forever". Special music includes "A Dixieland Jazz Funeral" featuring a jazz quartet and "The Yellow Rose of Texas Variations" featuring Brent Harris as soloist.
X-ALT-DESC;FMTTYPE=text/html:The Tyler Community Band\, directed by Mr. Mike Holbrook\, presents its annual patriotic concerts on Saturday\, June 29 at 6 p.m. at Southern Oaks Baptist Church. The patriotic concert offers a variety of music such as &quot\;This Land is Your Land&quot\;\, &quot\;The Genius of Ray Charles&quot\;\, and favorites &quot\;The Armed Forces Salute&quot\; and Sousa&#39\;s &quot\;Stars and Stripes Forever&quot\;. Special music includes &quot\;A Dixieland Jazz Funeral&quot\; featuring a jazz quartet and &quot\;The Yellow Rose of Texas Variations&quot\; featuring Brent Harris as soloist.
LOCATION:Southern Oaks Baptist Church 601 E. Amherst Tyler70701
UID:e.1648.15724
SEQUENCE:3
DTSTAMP:20260420T145335Z
URL:http://tylerarea.sampleorg.com/events/details/tyler-community-band-patriotic-concert-15724
END:VEVENT

END:VCALENDAR
