BEGIN:VCALENDAR
VERSION:2.0
PRODID:-//ChamberMaster//Event Calendar 2.0//EN
METHOD:PUBLISH
X-PUBLISHED-TTL:P3D
REFRESH-INTERVAL:P3D
CALSCALE:GREGORIAN
BEGIN:VEVENT
DTSTART:20241026T230000Z
DTEND:20241027T000000Z
X-MICROSOFT-CDO-ALLDAYEVENT:FALSE
SUMMARY:Tyler Community Band Concert
DESCRIPTION:The Tyler Community Band\, directed by Mr. Mike Holbrook\, presents its annual fall concert entitled "Something Wicked This Way Comes". The concert features themed music centered around the musical "Wicked". Musical numbers include Tchaikovsky"s "Dance of the Jesters" and "Variations on Ding Dong the Witch is Dead" as well as selections from "Wicked". The concert is free.
X-ALT-DESC;FMTTYPE=text/html:The Tyler Community Band\, directed by Mr. Mike Holbrook\, presents its annual fall concert entitled &quot\;Something Wicked This Way Comes&quot\;. The concert features themed music centered around the musical &quot\;Wicked&quot\;. Musical numbers include Tchaikovsky&quot\;s &quot\;Dance of the Jesters&quot\; and &quot\;Variations on Ding Dong the Witch is Dead&quot\; as well as selections from &quot\;Wicked&quot\;. The concert is free.
LOCATION:Southern Oaks Baptist Church Family Life Center\, 601 E. Amherst
UID:e.1648.15843
SEQUENCE:3
DTSTAMP:20260420T090416Z
URL:http://tylerarea.sampleorg.com/events/details/tyler-community-band-concert-10-26-2024-15843
END:VEVENT

END:VCALENDAR
