BEGIN:VCALENDAR
VERSION:2.0
PRODID:-//ChamberMaster//Event Calendar 2.0//EN
METHOD:PUBLISH
X-PUBLISHED-TTL:P3D
REFRESH-INTERVAL:P3D
CALSCALE:GREGORIAN
BEGIN:VEVENT
DTSTART:20250503T230000Z
DTEND:20250504T000000Z
X-MICROSOFT-CDO-ALLDAYEVENT:FALSE
SUMMARY:Tyler Community Band Concert
DESCRIPTION:The Tyler Community Band\, directed by Mr. Mike Holbrook\, presents its spring concert titled "Mikey's Favorites". The program includes "Music of the Beatles"\, "Seventy Six Trombones" and favorites by Gershwin. Other popular selections are "The Star Wars Saga" and the fun piece "More Cowbell". The concert is free.
X-ALT-DESC;FMTTYPE=text/html:The Tyler Community Band\, directed by Mr. Mike Holbrook\, presents its spring concert titled &quot\;Mikey&#39\;s Favorites&quot\;. The program includes &quot\;Music of the Beatles&quot\;\, &quot\;Seventy Six Trombones&quot\; and favorites by Gershwin. Other popular selections are &quot\;The Star Wars Saga&quot\; and the fun piece &quot\;More Cowbell&quot\;. The concert is free.
LOCATION:Southern Oaks Baptist Church Family Life Center 601 E. Amherst Dr.\, Tyler
UID:e.1648.16113
SEQUENCE:3
DTSTAMP:20260419T221718Z
URL:http://tylerarea.sampleorg.com/events/details/tyler-community-band-concert-05-03-2025-16113
END:VEVENT

END:VCALENDAR
