BEGIN:VCALENDAR
VERSION:2.0
PRODID:-//ChamberMaster//Event Calendar 2.0//EN
METHOD:PUBLISH
X-PUBLISHED-TTL:P3D
REFRESH-INTERVAL:P3D
CALSCALE:GREGORIAN
BEGIN:VEVENT
DTSTART:20251030T220000Z
DTEND:20251031T010000Z
X-MICROSOFT-CDO-ALLDAYEVENT:FALSE
SUMMARY:Trunk or Treat by Riggs Property Group ??
DESCRIPTION:Riggs Property Group is so excited to host a Trunk or Treat for ETX Kiddos! ?? We'll have a ton of decorated trunks where kids can play games and collect candy\, plus bounce houses and face painters to keep the fun going. A Juicy J's food truck will be on-site with food available for individual purchase\, and we'll also have a special Nintendo Switch 2 giveaway you won't want to miss. ?? Come dressed in your best costume and enjoy a safe\, fun-filled fall evening with us! ?
X-ALT-DESC;FMTTYPE=text/html:Riggs Property Group is so excited to host a Trunk or Treat for ETX Kiddos! ?? We&rsquo\;ll have a ton of decorated trunks where kids can play games and collect candy\, plus bounce houses and face painters to keep the fun going. A Juicy J&#39\;s food truck will be on-site with food available for individual purchase\, and we&rsquo\;ll also have a special Nintendo Switch 2 giveaway you won&rsquo\;t want to miss. ?? Come dressed in your best costume and enjoy a safe\, fun-filled fall evening with us! ?
LOCATION:6761 Old Jacksonville Hwy\, Tyler\, TX\, 75703
UID:e.1648.16243
SEQUENCE:3
DTSTAMP:20260419T160637Z
URL:http://tylerarea.sampleorg.com/events/details/trunk-or-treat-by-riggs-property-group-16243
END:VEVENT

END:VCALENDAR
