BEGIN:VCALENDAR
VERSION:2.0
PRODID:-//ChamberMaster//Event Calendar 2.0//EN
METHOD:PUBLISH
X-PUBLISHED-TTL:P3D
REFRESH-INTERVAL:P3D
CALSCALE:GREGORIAN
BEGIN:VEVENT
DTSTART:20241026T200000Z
DTEND:20241026T220000Z
X-MICROSOFT-CDO-ALLDAYEVENT:FALSE
SUMMARY:Trunk or Treat
DESCRIPTION:FREE Trunk or Treat Come dressed in your favorite costume! Lots of candy! Games! Family event- children must be accompanied by a parent\, guardian\, adult.
X-ALT-DESC;FMTTYPE=text/html:FREE Trunk or Treat Come dressed in your favorite costume! Lots of candy! Games! Family event- children must be accompanied by a parent\, guardian\, adult.
LOCATION:5210 Hollytree Dr. Tyler\, Texas 75703
UID:e.1648.15859
SEQUENCE:3
DTSTAMP:20260420T133122Z
URL:http://tylerarea.sampleorg.com/events/details/trunk-or-treat-10-26-2024-15859
END:VEVENT

END:VCALENDAR
