BEGIN:VCALENDAR
VERSION:2.0
PRODID:-//ChamberMaster//Event Calendar 2.0//EN
METHOD:PUBLISH
X-PUBLISHED-TTL:P3D
REFRESH-INTERVAL:P3D
CALSCALE:GREGORIAN
BEGIN:VEVENT
DTSTART:20251018T130000Z
DTEND:20251019T210000Z
X-MICROSOFT-CDO-ALLDAYEVENT:FALSE
SUMMARY:TRHP/NTHJC Hunter Jumper Horse Show
DESCRIPTION:Horse and rider combination of all ages and levels compete over pre-set obstacles in multiple arenas. Fun and exciting time for the entire family to experience.
X-ALT-DESC;FMTTYPE=text/html:Horse and rider combination of all ages and levels compete over pre-set obstacles in multiple arenas. Fun and exciting time for the entire family to experience.
LOCATION:Texas Rose Horse Park
UID:e.1648.15949
SEQUENCE:3
DTSTAMP:20260419T143424Z
URL:http://tylerarea.sampleorg.com/events/details/trhp-nthjc-hunter-jumper-horse-show-10-18-2025-15949
END:VEVENT

END:VCALENDAR
