BEGIN:VCALENDAR
VERSION:2.0
PRODID:-//ChamberMaster//Event Calendar 2.0//EN
METHOD:PUBLISH
X-PUBLISHED-TTL:P3D
REFRESH-INTERVAL:P3D
CALSCALE:GREGORIAN
BEGIN:VEVENT
DTSTART:20241020T010000Z
DTEND:20241020T200000Z
X-MICROSOFT-CDO-ALLDAYEVENT:FALSE
SUMMARY:TRHP/NTHJC Horse Show
DESCRIPTION:There are three main divisions at a hunter/jumper horse show: hunter\, jumper and equitation. In all three\, a rider guides a horse over a set course of obstacles in a ring. Local Horse Training barns will compete at an entry level in designated competition arenas. Fun for all ages to watch.
X-ALT-DESC;FMTTYPE=text/html:There are three main divisions at a hunter/jumper horse show: hunter\, jumper and equitation. In all three\, a rider guides a horse over a set course of obstacles in a ring. Local Horse Training barns will compete at an entry level in designated competition arenas. Fun for all ages to watch.
LOCATION:Texas Rose Horse Park
UID:e.1648.15549
SEQUENCE:3
DTSTAMP:20260420T090302Z
URL:http://tylerarea.sampleorg.com/events/details/trhp-nthjc-horse-show-10-19-2024-15549
END:VEVENT

END:VCALENDAR
