BEGIN:VCALENDAR
VERSION:2.0
PRODID:-//ChamberMaster//Event Calendar 2.0//EN
METHOD:PUBLISH
X-PUBLISHED-TTL:P3D
REFRESH-INTERVAL:P3D
CALSCALE:GREGORIAN
BEGIN:VEVENT
DTSTART:20241026T233000Z
DTEND:20241027T033000Z
X-MICROSOFT-CDO-ALLDAYEVENT:FALSE
SUMMARY:"Totally Unleashed " Therapet Masquerade Gala
DESCRIPTION:Join us at the Masquerade themed fundraising gala for Therapet Animal Assisted Therapy! A night of festive fun\, with Big Daddy Band\, dancing\, auctions\, games\, dinner and drinks! plus get up close and paw-sonal with the true stars of the night - The Therapet Dogs! Help support Animal Assisted Therapy by attending this 13th Annual Event!
X-ALT-DESC;FMTTYPE=text/html:Join us at the Masquerade themed fundraising gala for Therapet Animal Assisted Therapy! A night of festive fun\, with Big Daddy Band\, dancing\, auctions\, games\, dinner and drinks! plus get up close and paw-sonal with the true stars of the night - The Therapet Dogs! Help support Animal Assisted Therapy by attending this 13th Annual Event!
LOCATION:W. T. Brookshire Conference Center
UID:e.1648.15816
SEQUENCE:3
DTSTAMP:20260420T085439Z
URL:http://tylerarea.sampleorg.com/events/details/totally-unleashed-therapet-masquerade-gala-15816
END:VEVENT

END:VCALENDAR
