BEGIN:VCALENDAR
VERSION:2.0
PRODID:-//ChamberMaster//Event Calendar 2.0//EN
METHOD:PUBLISH
X-PUBLISHED-TTL:P3D
REFRESH-INTERVAL:P3D
CALSCALE:GREGORIAN
BEGIN:VEVENT
DTSTART:20251101T230000Z
DTEND:20251102T040000Z
X-MICROSOFT-CDO-ALLDAYEVENT:FALSE
SUMMARY:Totally Unleashed Therapet Gala
DESCRIPTION:Therapet's Annual fundraising Gala! Live band - Pictures\, plus a a full line up dinner and cocktails! Fun games\, live and silent auction and you get to party with the therapet dogs!
X-ALT-DESC;FMTTYPE=text/html:Therapet&#39\;s Annual fundraising Gala! Live band - Pictures\, plus a a full line up dinner and cocktails! Fun games\, live and silent auction and you get to party with the therapet dogs!
LOCATION:W. T. Brookshire's Conference Center located at 2000 W. Front St\, Tyler\, Tx 75702
UID:e.1648.16072
SEQUENCE:3
DTSTAMP:20260419T124918Z
URL:http://tylerarea.sampleorg.com/events/details/totally-unleashed-therapet-gala-16072
END:VEVENT

END:VCALENDAR
