BEGIN:VCALENDAR
VERSION:2.0
PRODID:-//ChamberMaster//Event Calendar 2.0//EN
METHOD:PUBLISH
X-PUBLISHED-TTL:P3D
REFRESH-INTERVAL:P3D
CALSCALE:GREGORIAN
BEGIN:VEVENT
DTSTART:20250314T200000Z
DTEND:20250316T170000Z
X-MICROSOFT-CDO-ALLDAYEVENT:FALSE
SUMMARY:TLC's Spring Work Weekend at Ivy’s
DESCRIPTION:Join Texas Land Conservancy staff and volunteers for a weekend of camping\, trail work\, invasive species removal\, and more at our Ivy Payne Preserve near Palestine\, Texas. There will be jobs for every ability\; no experience is required. Come for the day - Saturday\, March 15   or stay for the whole weekend. Volunteers will be provided a campsite and meals during the weekend. Texas Land Conservancy is a Texan by Nature Conservation Partner.
X-ALT-DESC;FMTTYPE=text/html:Join Texas Land Conservancy staff and volunteers for a weekend of camping\, trail work\, invasive species removal\, and more at our Ivy Payne Preserve near Palestine\, Texas. There will be jobs for every ability\; no experience is required. Come for the day - Saturday\, March 15 &ndash\; or stay for the whole weekend. Volunteers will be provided a campsite and meals during the weekend. Texas Land Conservancy is a Texan by Nature Conservation Partner.
LOCATION:TLC's Ivy Payne Preserve\, 650 An County Road 134\, Elkhart\, TX 75839
UID:e.1648.16007
SEQUENCE:3
DTSTAMP:20260420T010955Z
URL:http://tylerarea.sampleorg.com/events/details/tlc-s-spring-work-weekend-at-ivy-s-16007
END:VEVENT

END:VCALENDAR
