BEGIN:VCALENDAR
VERSION:2.0
PRODID:-//ChamberMaster//Event Calendar 2.0//EN
METHOD:PUBLISH
X-PUBLISHED-TTL:P3D
REFRESH-INTERVAL:P3D
CALSCALE:GREGORIAN
BEGIN:VEVENT
DTSTART;VALUE=DATE:20250415
DTEND;VALUE=DATE:20250417
TRANSP:TRANSPARENT
X-MICROSOFT-CDO-ALLDAYEVENT:TRUE
SUMMARY:TJC Ground Zero Workshop (Lean & Continuous Improvement)
DESCRIPTION:TJC is excited to host an exclusive Ground Zero Workshop designed specifically for key decision makers in manufacturing and healthcare. Over the course of two days\, attendees will participate in a hands-on simulation to learn Lean and Continuous Improvement philosophies.
X-ALT-DESC;FMTTYPE=text/html:TJC is excited to host an exclusive Ground Zero Workshop designed specifically for key decision makers in manufacturing and healthcare. Over the course of two days\, attendees will participate in a hands-on simulation to learn Lean and Continuous Improvement philosophies.
LOCATION:TJC West\, 1530 SSW Loop 323\, Tyler RTDC Room 104
UID:e.1648.16060
SEQUENCE:3
DTSTAMP:20260419T233948Z
URL:http://tylerarea.sampleorg.com/events/details/tjc-ground-zero-workshop-lean-continuous-improvement-16060
END:VEVENT

END:VCALENDAR
