BEGIN:VCALENDAR
VERSION:2.0
PRODID:-//ChamberMaster//Event Calendar 2.0//EN
METHOD:PUBLISH
X-PUBLISHED-TTL:P3D
REFRESH-INTERVAL:P3D
CALSCALE:GREGORIAN
BEGIN:VEVENT
DTSTART:20250417T213000Z
DTEND:20250417T233000Z
X-MICROSOFT-CDO-ALLDAYEVENT:FALSE
SUMMARY:Thirsty Third Thursday
DESCRIPTION:Come join us at Freedom Financial Group from 4:30pm - 6:30pm for our monthly business owners mixer! We will be highlighting Randy Rexroat with Rexroat CFO. His featured drink choice is Skinny Margaritas!
X-ALT-DESC;FMTTYPE=text/html:Come join us at Freedom Financial Group from 4:30pm - 6:30pm for our monthly business owners mixer! We will be highlighting Randy Rexroat with Rexroat CFO. His featured drink choice is Skinny Margaritas!
LOCATION:Freedom Financial Group 777 S Broadway Avenue\, Tyler\, Texas 75701
UID:e.1648.16078
SEQUENCE:3
DTSTAMP:20260419T234010Z
URL:http://tylerarea.sampleorg.com/events/details/thirsty-third-thursday-04-17-2025-16078
END:VEVENT

END:VCALENDAR
