BEGIN:VCALENDAR
VERSION:2.0
PRODID:-//ChamberMaster//Event Calendar 2.0//EN
METHOD:PUBLISH
X-PUBLISHED-TTL:P3D
REFRESH-INTERVAL:P3D
CALSCALE:GREGORIAN
BEGIN:VEVENT
DTSTART:20251111T173000Z
DTEND:20251111T190000Z
X-MICROSOFT-CDO-ALLDAYEVENT:FALSE
SUMMARY:There's No Place Like HomePlace
DESCRIPTION:A community-wide luncheon event\, commemorating the 25th anniversary of HomePlace\, The Hospice of East Texas' inpatient facility.
X-ALT-DESC;FMTTYPE=text/html:A community-wide luncheon event\, commemorating the 25th anniversary of HomePlace\, The Hospice of East Texas&#39\; inpatient facility.
LOCATION:CrossWalk Conference Center Green Acres Baptist Church
UID:e.1648.15959
SEQUENCE:3
DTSTAMP:20260419T142605Z
URL:http://tylerarea.sampleorg.com/events/details/there-s-no-place-like-homeplace-15959
END:VEVENT

END:VCALENDAR
