BEGIN:VCALENDAR
VERSION:2.0
PRODID:-//ChamberMaster//Event Calendar 2.0//EN
METHOD:PUBLISH
X-PUBLISHED-TTL:P3D
REFRESH-INTERVAL:P3D
CALSCALE:GREGORIAN
BEGIN:VEVENT
DTSTART:20241030T000000Z
DTEND:20241030T013000Z
X-MICROSOFT-CDO-ALLDAYEVENT:FALSE
SUMMARY:"The Paul Stark Seeley Story" (please note venue has been relocated)
DESCRIPTION:Paul Stark Seeley was a graduate of Princeton and Harvard Law School. He left his law practice to become a healer and practice the law of God. The film documents the trials and tribulations he would overcome to become one of the most notable Christian Scientists in the mid-20th century. At a time when world travel was challenging\, the film will become your passport and take you on a tour of discovery. The film illustrates how Mr. Seeley's lectures fed a spiritually hungry world and spread the news about Mary Baker Eddy's discovery of Christian Science.
X-ALT-DESC;FMTTYPE=text/html:Paul Stark Seeley was a graduate of Princeton and Harvard Law School. He left his law practice to become a healer and practice the law of God. The film documents the trials and tribulations he would overcome to become one of the most notable Christian Scientists in the mid-20th century. At a time when world travel was challenging\, the film will become your passport and take you on a tour of discovery. The film illustrates how Mr. Seeley&rsquo\;s lectures fed a spiritually hungry world and spread the news about Mary Baker Eddy&rsquo\;s discovery of Christian Science.
LOCATION:First Presbyterian Church Gym - PLEASE PARK BEHIND CHURCH 230 W. Rusk Tyler
UID:e.1648.15836
SEQUENCE:3
DTSTAMP:20260420T102720Z
URL:http://tylerarea.sampleorg.com/events/details/the-paul-stark-seeley-story-please-note-venue-has-been-relocated-15836
END:VEVENT

END:VCALENDAR
