BEGIN:VCALENDAR
VERSION:2.0
PRODID:-//ChamberMaster//Event Calendar 2.0//EN
METHOD:PUBLISH
X-PUBLISHED-TTL:P3D
REFRESH-INTERVAL:P3D
CALSCALE:GREGORIAN
BEGIN:VEVENT
DTSTART:20251017T000000Z
DTEND:20251019T030000Z
X-MICROSOFT-CDO-ALLDAYEVENT:FALSE
SUMMARY:The Outsiders
DESCRIPTION:Watch your favorite story come to life by the students of Tyler Legacy Theatre
X-ALT-DESC;FMTTYPE=text/html:Watch your favorite story come to life by the students of Tyler Legacy Theatre
LOCATION:Jan E. Jones Theatre TL High School
UID:e.1648.16229
SEQUENCE:3
DTSTAMP:20260419T155327Z
URL:http://tylerarea.sampleorg.com/events/details/the-outsiders-16229
END:VEVENT

END:VCALENDAR
