BEGIN:VCALENDAR
VERSION:2.0
PRODID:-//ChamberMaster//Event Calendar 2.0//EN
METHOD:PUBLISH
X-PUBLISHED-TTL:P3D
REFRESH-INTERVAL:P3D
CALSCALE:GREGORIAN
BEGIN:VEVENT
DTSTART:20250321T000000Z
DTEND:20250321T020000Z
X-MICROSOFT-CDO-ALLDAYEVENT:FALSE
SUMMARY:The Malpass Brothers at Liberty Hall
DESCRIPTION:Classic Country brothers group\, The Malpass Brothers\, will be live at Liberty Hall. Be sure to take join them for a night of great music from these RFDTV stars!
X-ALT-DESC;FMTTYPE=text/html:Classic Country brothers group\, The Malpass Brothers\, will be live at Liberty Hall. Be sure to take join them for a night of great music from these RFDTV stars!
LOCATION:Liberty Hall
UID:e.1648.16054
SEQUENCE:3
DTSTAMP:20260420T011613Z
URL:http://tylerarea.sampleorg.com/events/details/the-malpass-brothers-at-liberty-hall-16054
END:VEVENT

END:VCALENDAR
