BEGIN:VCALENDAR
VERSION:2.0
PRODID:-//ChamberMaster//Event Calendar 2.0//EN
METHOD:PUBLISH
X-PUBLISHED-TTL:P3D
REFRESH-INTERVAL:P3D
CALSCALE:GREGORIAN
BEGIN:VEVENT
DTSTART:20250518T153000Z
DTEND:20250518T191500Z
X-MICROSOFT-CDO-ALLDAYEVENT:FALSE
SUMMARY:The Distinguished Gentleman's Ride - Tyler
DESCRIPTION:The Distinguished Gentleman's Ride is scheduled for Sunday\, May 18\, 2025. Motorcycle enthusiasts from all over East Texas will gather. Dressed in dapper attire\, they will be riding vintage motorcycles through the streets of Tyler. The Distinguished Gentleman's Ride is a worldwide event that started in Australia. The goal of this event is to connect men with local health resources in Smith County\, specifically for mental and prostate health. In addition\, funds are raised for the Movember Foundation\, the leading charity changing the face of men's health.
X-ALT-DESC;FMTTYPE=text/html:The Distinguished Gentleman&#39\;s Ride is scheduled for Sunday\, May 18\, 2025. Motorcycle enthusiasts from all over East Texas will gather. Dressed in dapper attire\, they will be riding vintage motorcycles through the streets of Tyler. The Distinguished Gentleman&#39\;s Ride is a worldwide event that started in Australia. The goal of this event is to connect men with local health resources in Smith County\, specifically for mental and prostate health. In addition\, funds are raised for the Movember Foundation\, the leading charity changing the face of men&#39\;s health.
LOCATION:1836 Texas Kitchen parking lot
UID:e.1648.16042
SEQUENCE:3
DTSTAMP:20260419T221607Z
URL:http://tylerarea.sampleorg.com/events/details/the-distinguished-gentleman-s-ride-tyler-16042
END:VEVENT

END:VCALENDAR
