BEGIN:VCALENDAR
VERSION:2.0
PRODID:-//ChamberMaster//Event Calendar 2.0//EN
METHOD:PUBLISH
X-PUBLISHED-TTL:P3D
REFRESH-INTERVAL:P3D
CALSCALE:GREGORIAN
BEGIN:VEVENT
DTSTART:20250913T230000Z
DTEND:20250914T013000Z
X-MICROSOFT-CDO-ALLDAYEVENT:FALSE
SUMMARY:The Art of Life
DESCRIPTION:A night of art\, fashion\, and compassion! Experience a true New York style Runway Show\, featuring the Recaptured Memories Collection by Artist Cassie Edmonds. One-of-kind artfully designed coats and jackets available through silent and live auction. Custom Art Footwear by Artist Dace Kidd. Event proceeds to benefit The Hospice of East Texas.
X-ALT-DESC;FMTTYPE=text/html:A night of art\, fashion\, and compassion! Experience a true New York style Runway Show\, featuring the Recaptured Memories Collection by Artist Cassie Edmonds. One-of-kind artfully designed coats and jackets available through silent and live auction. Custom Art Footwear by Artist Dace Kidd. Event proceeds to benefit The Hospice of East Texas.
LOCATION:The Historic Mayfair Building 415 Fair Park Drive\, Tyler
UID:e.1648.16163
SEQUENCE:3
DTSTAMP:20260419T160619Z
URL:http://tylerarea.sampleorg.com/events/details/the-art-of-life-16163
END:VEVENT

END:VCALENDAR
