BEGIN:VCALENDAR
VERSION:2.0
PRODID:-//ChamberMaster//Event Calendar 2.0//EN
METHOD:PUBLISH
X-PUBLISHED-TTL:P3D
REFRESH-INTERVAL:P3D
CALSCALE:GREGORIAN
BEGIN:VEVENT
DTSTART:20250208T140000Z
DTEND:20250209T220000Z
X-MICROSOFT-CDO-ALLDAYEVENT:FALSE
SUMMARY:Texas Rose Winter HT/CT/Open Schooling
DESCRIPTION:All ages of Horse and rider combination compete over a 3 phased event at all levels of Dressage\, Stadium jumping and cross country jumping.
X-ALT-DESC;FMTTYPE=text/html:All ages of Horse and rider combination compete over a 3 phased event at all levels of Dressage\, Stadium jumping and cross country jumping.
LOCATION:Texas Rose Horse Park
UID:e.1648.15916
SEQUENCE:3
DTSTAMP:20260420T024929Z
URL:http://tylerarea.sampleorg.com/events/details/texas-rose-winter-ht-ct-open-schooling-15916
END:VEVENT

END:VCALENDAR
