BEGIN:VCALENDAR
VERSION:2.0
PRODID:-//ChamberMaster//Event Calendar 2.0//EN
METHOD:PUBLISH
X-PUBLISHED-TTL:P3D
REFRESH-INTERVAL:P3D
CALSCALE:GREGORIAN
BEGIN:VEVENT
DTSTART:20261204T140000Z
DTEND:20261206T210000Z
X-MICROSOFT-CDO-ALLDAYEVENT:FALSE
SUMMARY:Texas Rose Who-ville Hunter Jumper Christmas Show
DESCRIPTION:Hunter Jumper horse shows feature three main disciplines - Hunters\, Jumper\, and equitation - that test horse and rider over fences. Hunter classes judge horse on style\, movement\, and manners\, while jumpers focus on speed and accuracy. Equitation classes evaluate the rider's form\, and all divisions often include both over-fences and on the flat (no Jumping) classes. Fun for the entire family to watch!
X-ALT-DESC;FMTTYPE=text/html:Hunter Jumper horse shows feature three main disciplines - Hunters\, Jumper\, and equitation - that test horse and rider over fences. Hunter classes judge horse on style\, movement\, and manners\, while jumpers focus on speed and accuracy. Equitation classes evaluate the rider&#39\;s form\, and all divisions often include both over-fences and on the flat (no Jumping) classes. Fun for the entire family to watch!
LOCATION:Texas Rose Horse Park
UID:e.1648.16322
SEQUENCE:3
DTSTAMP:20260419T174041Z
URL:http://tylerarea.sampleorg.com/events/details/texas-rose-who-ville-hunter-jumper-christmas-show-16322
END:VEVENT

END:VCALENDAR
