BEGIN:VCALENDAR
VERSION:2.0
PRODID:-//ChamberMaster//Event Calendar 2.0//EN
METHOD:PUBLISH
X-PUBLISHED-TTL:P3D
REFRESH-INTERVAL:P3D
CALSCALE:GREGORIAN
BEGIN:VEVENT
DTSTART:20250802T130000Z
DTEND:20250803T210000Z
X-MICROSOFT-CDO-ALLDAYEVENT:FALSE
SUMMARY:Texas Rose Summer HT/CT/Open Schooling
DESCRIPTION:An Equestrian event where horse & rider of all ages & levels compete in three disciplines\, dressage\, cross-country and show jumping. Fun for the entire family to watch.
X-ALT-DESC;FMTTYPE=text/html:An Equestrian event where horse &amp\; rider of all ages &amp\; levels compete in three disciplines\, dressage\, cross-country and show jumping. Fun for the entire family to watch.
LOCATION:Texas Rose Horse Park
UID:e.1648.15941
SEQUENCE:3
DTSTAMP:20260419T174505Z
URL:http://tylerarea.sampleorg.com/events/details/texas-rose-summer-ht-ct-open-schooling-15941
END:VEVENT

END:VCALENDAR
