BEGIN:VCALENDAR
VERSION:2.0
PRODID:-//ChamberMaster//Event Calendar 2.0//EN
METHOD:PUBLISH
X-PUBLISHED-TTL:P3D
REFRESH-INTERVAL:P3D
CALSCALE:GREGORIAN
BEGIN:VEVENT
DTSTART:20241020T010000Z
DTEND:20241020T200000Z
X-MICROSOFT-CDO-ALLDAYEVENT:FALSE
SUMMARY:Texas Rose Fall Horse Trials
DESCRIPTION:The Texas Horse Trials is a triathlon equestrian eventing sport of English riding that includes dressage and show jumping held over two to three days. It consists of different levels according to the rider and horse's abilities\, where they are judged on specific criteria that accrued penalties. Fun for all ages to watch. TRHP welcomes volunteers for this event.
X-ALT-DESC;FMTTYPE=text/html:The Texas Horse Trials is a triathlon equestrian eventing sport of English riding that includes dressage and show jumping held over two to three days. It consists of different levels according to the rider and horse&rsquo\;s abilities\, where they are judged on specific criteria that accrued penalties. Fun for all ages to watch. TRHP welcomes volunteers for this event.
LOCATION:Texas Rose Horse Park
UID:e.1648.15550
SEQUENCE:3
DTSTAMP:20260420T090420Z
URL:http://tylerarea.sampleorg.com/events/details/texas-rose-fall-horse-trials-15550
END:VEVENT

END:VCALENDAR
