BEGIN:VCALENDAR
VERSION:2.0
PRODID:-//ChamberMaster//Event Calendar 2.0//EN
METHOD:PUBLISH
X-PUBLISHED-TTL:P3D
REFRESH-INTERVAL:P3D
CALSCALE:GREGORIAN
BEGIN:VEVENT
DTSTART:20250919T130000Z
DTEND:20250921T210000Z
X-MICROSOFT-CDO-ALLDAYEVENT:FALSE
SUMMARY:Texas Rose Dressage Fall Classic Horse Show
DESCRIPTION:"the highest expression of horse training" where horse & rider are expected to perform from memory a series of redetermined movements. Elegant Horse show for the entire family to watch.
X-ALT-DESC;FMTTYPE=text/html:&quot\;the highest expression of horse training&quot\; where horse &amp\; rider are expected to perform from memory a series of redetermined movements. Elegant Horse show for the entire family to watch.
LOCATION:Texas Rose Horse Park
UID:e.1648.15945
SEQUENCE:3
DTSTAMP:20260419T174100Z
URL:http://tylerarea.sampleorg.com/events/details/texas-rose-dressage-fall-classic-horse-show-09-19-2025-15945
END:VEVENT

END:VCALENDAR
