BEGIN:VCALENDAR
VERSION:2.0
PRODID:-//ChamberMaster//Event Calendar 2.0//EN
METHOD:PUBLISH
X-PUBLISHED-TTL:P3D
REFRESH-INTERVAL:P3D
CALSCALE:GREGORIAN
BEGIN:VEVENT
DTSTART;VALUE=DATE:20240911
DTEND;VALUE=DATE:20240916
TRANSP:TRANSPARENT
X-MICROSOFT-CDO-ALLDAYEVENT:TRUE
SUMMARY:Texas Rose Classic Hunter Jumper Horse Show
DESCRIPTION:All age horse & rider combinations compete in classes where rider and horse are judged on their technique\, presentation\, speed and the ability to successfully clear jumps. The event is open to the public to spectate.
X-ALT-DESC;FMTTYPE=text/html:All age horse &amp\; rider combinations compete in classes where rider and horse are judged on their technique\, presentation\, speed and the ability to successfully clear jumps. The event is open to the public to spectate.
LOCATION:Texas Rose Horse Park 14078 State Hwy 110N Tyler\, TX
UID:e.1648.15731
SEQUENCE:3
DTSTAMP:20260420T102748Z
URL:http://tylerarea.sampleorg.com/events/details/texas-rose-classic-hunter-jumper-horse-show-15731
END:VEVENT

END:VCALENDAR
