BEGIN:VCALENDAR
VERSION:2.0
PRODID:-//ChamberMaster//Event Calendar 2.0//EN
METHOD:PUBLISH
X-PUBLISHED-TTL:P3D
REFRESH-INTERVAL:P3D
CALSCALE:GREGORIAN
BEGIN:VEVENT
DTSTART:20260821T130000Z
DTEND:20260823T200000Z
X-MICROSOFT-CDO-ALLDAYEVENT:FALSE
SUMMARY:Texas Rose Breed Horse Show
DESCRIPTION:An all-breed horse show is a judged exhibition where horses from various breeds compete against one another. These shows typically feature multiple classes\, allowing horses of different breeds and disciplines to participate. They often run for several days and may include events for all breeds\, as well as specific classes for certain breeds. The purpose of these shows is to showcase the diversity of horse breeds and encourage equestrian competition across different disciplines.
X-ALT-DESC;FMTTYPE=text/html:An all-breed horse show is a judged exhibition where horses from various breeds compete against one another. These shows typically feature multiple classes\, allowing horses of different breeds and disciplines to participate. They often run for several days and may include events for all breeds\, as well as specific classes for certain breeds. The purpose of these shows is to showcase the diversity of horse breeds and encourage equestrian competition across different disciplines.
LOCATION:Texas Rose Horse Park
UID:e.1648.16332
SEQUENCE:3
DTSTAMP:20260419T131230Z
URL:http://tylerarea.sampleorg.com/events/details/texas-rose-breed-horse-show-16332
END:VEVENT

END:VCALENDAR
