BEGIN:VCALENDAR
VERSION:2.0
PRODID:-//ChamberMaster//Event Calendar 2.0//EN
METHOD:PUBLISH
X-PUBLISHED-TTL:P3D
REFRESH-INTERVAL:P3D
CALSCALE:GREGORIAN
BEGIN:VEVENT
DTSTART:20240930T140000Z
DTEND:20240930T180000Z
X-MICROSOFT-CDO-ALLDAYEVENT:FALSE
SUMMARY:Tee Off for Toys Golf Tournament
DESCRIPTION:14th Annual "Tee Off for Toys" Golf Tournament hosted by The Tyler Professional Firefighters Association. This four-person scramble benefits The Salvation Army's annual Angel Tree Program. Players are asked to bring an unwrapped toy on day of tournament.
X-ALT-DESC;FMTTYPE=text/html:14th Annual &quot\;Tee Off for Toys&quot\; Golf Tournament hosted by The Tyler Professional Firefighters Association. This four-person scramble benefits The Salvation Army&#39\;s annual Angel Tree Program. Players are asked to bring an unwrapped toy on day of tournament.
LOCATION:Hideaway Lake Golf Course 101 Hideaway Lane Central Hideaway\, Texas 75771
UID:e.1648.15602
SEQUENCE:3
DTSTAMP:20260420T102807Z
URL:http://tylerarea.sampleorg.com/events/details/tee-off-for-toys-golf-tournament-15602
END:VEVENT

END:VCALENDAR
