BEGIN:VCALENDAR
VERSION:2.0
PRODID:-//ChamberMaster//Event Calendar 2.0//EN
METHOD:PUBLISH
X-PUBLISHED-TTL:P3D
REFRESH-INTERVAL:P3D
CALSCALE:GREGORIAN
BEGIN:VEVENT
DTSTART:20250929T140000Z
DTEND:20250929T220000Z
X-MICROSOFT-CDO-ALLDAYEVENT:FALSE
SUMMARY:Tee Off for Toys 2025
DESCRIPTION:Please join us for our 15th annual Tee off for Toys golf tournament benefitting The Salvation Army of Tyler angel tree program. Presented in conjunction with the Tyler Firefighters Association.
X-ALT-DESC;FMTTYPE=text/html:Please join us for our 15th annual Tee off for Toys golf tournament benefitting The Salvation Army of Tyler angel tree program. Presented in conjunction with the Tyler Firefighters Association.
LOCATION:Hideaway Lake Golf Course 101 Hideaway Lane Central Hideaway\, TX 75771
UID:e.1648.16041
SEQUENCE:3
DTSTAMP:20260419T172622Z
URL:http://tylerarea.sampleorg.com/events/details/tee-off-for-toys-2025-16041
END:VEVENT

END:VCALENDAR
