BEGIN:VCALENDAR
VERSION:2.0
PRODID:-//ChamberMaster//Event Calendar 2.0//EN
METHOD:PUBLISH
X-PUBLISHED-TTL:P3D
REFRESH-INTERVAL:P3D
CALSCALE:GREGORIAN
BEGIN:VEVENT
DTSTART:20250531T130000Z
DTEND:20250531T160000Z
X-MICROSOFT-CDO-ALLDAYEVENT:FALSE
SUMMARY:TAKE HEART 10k & 5K
DESCRIPTION:"Empowering women\, heart and sole" From the team that brought you the Corkscrew Wine Run and The Diva Du\, this is the ??all-new Take Heart 10K & 5K\, an all female running event that celebrates and empowers women while raising funds for women's health.
X-ALT-DESC;FMTTYPE=text/html:&quot\;Empowering women\, heart and sole&quot\; From the team that brought you the Corkscrew Wine Run and The Diva Du\, this is the ??all-new Take Heart 10K &amp\; 5K\, an all female running event that celebrates and empowers women while raising funds for women&#39\;s health.
LOCATION:The Boulders at Lake Tyler
UID:e.1648.15985
SEQUENCE:3
DTSTAMP:20260419T221049Z
URL:http://tylerarea.sampleorg.com/events/details/take-heart-10k-5k-15985
END:VEVENT

END:VCALENDAR
