BEGIN:VCALENDAR
VERSION:2.0
PRODID:-//ChamberMaster//Event Calendar 2.0//EN
METHOD:PUBLISH
X-PUBLISHED-TTL:P3D
REFRESH-INTERVAL:P3D
CALSCALE:GREGORIAN
BEGIN:VEVENT
DTSTART:20241105T173000Z
DTEND:20241105T190000Z
X-MICROSOFT-CDO-ALLDAYEVENT:FALSE
SUMMARY:TAALP Luncheon Honoring Area Judges
DESCRIPTION:The Tyler Area Association of Legal Professionals\, Smith County Bar Association\, and Smith County Young Lawyers Association are proud to present the annual Joint Luncheon to honor our local judges. This year's guest speaker will be Steve Benesh\, State Bar of Texas President.
X-ALT-DESC;FMTTYPE=text/html:The Tyler Area Association of Legal Professionals\, Smith County Bar Association\, and Smith County Young Lawyers Association are proud to present the annual Joint Luncheon to honor our local judges. This year&#39\;s guest speaker will be Steve Benesh\, State Bar of Texas President.
LOCATION:Hollytree Country Club
UID:e.1648.15839
SEQUENCE:3
DTSTAMP:20260420T073357Z
URL:http://tylerarea.sampleorg.com/events/details/taalp-luncheon-honoring-area-judges-15839
END:VEVENT

END:VCALENDAR
