BEGIN:VCALENDAR
VERSION:2.0
PRODID:-//ChamberMaster//Event Calendar 2.0//EN
METHOD:PUBLISH
X-PUBLISHED-TTL:P3D
REFRESH-INTERVAL:P3D
CALSCALE:GREGORIAN
BEGIN:VEVENT
DTSTART:20250828T190000Z
DTEND:20250828T220000Z
X-MICROSOFT-CDO-ALLDAYEVENT:FALSE
SUMMARY:Summer Luau at Meadow Lake
DESCRIPTION:YOU'RE INVITED TO A filled Summer Luau designed especially for families of those living with memory loss. Whether you're a spouse\, adult child\, or close friend\, this special event is an opportunity to celebrate the season   and your loved one   in a warm\, supportive environment Because even as memories change\, love and laughter remain. This luau isn't just about the sunshine and leis   it's about creating moments of joy\, dignity\, and connection. Our compassionate team understands the journey of memory loss\, and we're here to support you every step of the way. Because even as memories change\, love and laughter remain. Come enjoy:   Gentle live music and island-inspired entertainment   Tropical refreshments and light bites   A welcoming space for connection and community   Opportunities to engage with our expert memory care team   Family-friendly activities and photo keepsakes We warmly invite you to share this special time with your loved one   and with us.
X-ALT-DESC;FMTTYPE=text/html:YOU&rsquo\;RE INVITED TO A filled Summer Luau designed especially for families of those living with memory loss. Whether you&rsquo\;re a spouse\, adult child\, or close friend\, this special event is an opportunity to celebrate the season &ndash\; and your loved one &ndash\; in a warm\, supportive environment Because even as memories change\, love and laughter remain. This luau isn&rsquo\;t just about the sunshine and leis &mdash\; it&rsquo\;s about creating moments of joy\, dignity\, and connection. Our compassionate team understands the journey of memory loss\, and we&rsquo\;re here to support you every step of the way. Because even as memories change\, love and laughter remain. Come enjoy: &bull\; Gentle live music and island-inspired entertainment &bull\; Tropical refreshments and light bites &bull\; A welcoming space for connection and community &bull\; Opportunities to engage with our expert memory care team &bull\; Family-friendly activities and photo keepsakes We warmly invite you to share this special time with your loved one &ndash\; and with us.
LOCATION:Meadow Lake Health Center Building 11667 Shoreline Dr. Tyler\, TX 75703
UID:e.1648.16203
SEQUENCE:3
DTSTAMP:20260419T180710Z
URL:http://tylerarea.sampleorg.com/events/details/summer-luau-at-meadow-lake-16203
END:VEVENT

END:VCALENDAR
