BEGIN:VCALENDAR
VERSION:2.0
PRODID:-//ChamberMaster//Event Calendar 2.0//EN
METHOD:PUBLISH
X-PUBLISHED-TTL:P3D
REFRESH-INTERVAL:P3D
CALSCALE:GREGORIAN
BEGIN:VEVENT
DTSTART:20250517T160000Z
DTEND:20250517T190000Z
X-MICROSOFT-CDO-ALLDAYEVENT:FALSE
SUMMARY:Summer Kick Off
DESCRIPTION:Ruby's Tacos free to first 100 guests and Free bounce house fun on site. Come out and join us at Exceptional Emergency Center
X-ALT-DESC;FMTTYPE=text/html:Ruby&#39\;s Tacos free to first 100 guests and Free bounce house fun on site. Come out and join us at Exceptional Emergency Center
LOCATION:Exceptional Emergency Center 2222 ESE Loop 323 Tyler Tx 75701
UID:e.1648.16145
SEQUENCE:3
DTSTAMP:20260419T220918Z
URL:http://tylerarea.sampleorg.com/events/details/summer-kick-off-16145
END:VEVENT

END:VCALENDAR
