BEGIN:VCALENDAR
VERSION:2.0
PRODID:-//ChamberMaster//Event Calendar 2.0//EN
METHOD:PUBLISH
X-PUBLISHED-TTL:P3D
REFRESH-INTERVAL:P3D
CALSCALE:GREGORIAN
BEGIN:VEVENT
DTSTART:20250412T130000Z
DTEND:20250412T170000Z
X-MICROSOFT-CDO-ALLDAYEVENT:FALSE
SUMMARY:Spring is Sprouting
DESCRIPTION:Saturday\, April 12th will be the 2025 season opening day! Join us for "Spring is Sprouting" at the Rose City Farmers Market! Free starts for visitors\, kids' activities\, Power of Produce - POP kids club (sponsored by Altra Federal Credit Union - Texas\, top-notch vendors with fresh picked produce\, local meats\, organic candies\, goat milk soaps\, handmade breads and pastries and much more you don't want to miss!
X-ALT-DESC;FMTTYPE=text/html:Saturday\, April 12th will be the 2025 season opening day! Join us for &quot\;Spring is Sprouting&quot\; at the Rose City Farmers Market! Free starts for visitors\, kids&#39\; activities\, Power of Produce - POP kids club (sponsored by Altra Federal Credit Union - Texas\, top-notch vendors with fresh picked produce\, local meats\, organic candies\, goat milk soaps\, handmade breads and pastries and much more you don&#39\;t want to miss!
LOCATION:221 S. Broadway Ave. Tyler\, TX 75702
UID:e.1648.16061
SEQUENCE:3
DTSTAMP:20260419T233951Z
URL:http://tylerarea.sampleorg.com/events/details/spring-is-sprouting-16061
END:VEVENT

END:VCALENDAR
