BEGIN:VCALENDAR
VERSION:2.0
PRODID:-//ChamberMaster//Event Calendar 2.0//EN
METHOD:PUBLISH
X-PUBLISHED-TTL:P3D
REFRESH-INTERVAL:P3D
CALSCALE:GREGORIAN
BEGIN:VEVENT
DTSTART:20250424T220000Z
DTEND:20250425T000000Z
X-MICROSOFT-CDO-ALLDAYEVENT:FALSE
SUMMARY:South Tyler Rotary Spaghetti Supper
DESCRIPTION:Dine in or Carry Out for a great cause! All money is poured back into the community in the form of grants to Smith County nonprofits.
X-ALT-DESC;FMTTYPE=text/html:Dine in or Carry Out for a great cause! All money is poured back into the community in the form of grants to Smith County nonprofits.
LOCATION:Loop 323 and Broadway - First Christian Church
UID:e.1648.15979
SEQUENCE:3
DTSTAMP:20260419T235204Z
URL:http://tylerarea.sampleorg.com/events/details/south-tyler-rotary-spaghetti-supper-04-24-2025-15979
END:VEVENT

END:VCALENDAR
