BEGIN:VCALENDAR
VERSION:2.0
PRODID:-//ChamberMaster//Event Calendar 2.0//EN
METHOD:PUBLISH
X-PUBLISHED-TTL:P3D
REFRESH-INTERVAL:P3D
CALSCALE:GREGORIAN
BEGIN:VEVENT
DTSTART:20241019T140000Z
DTEND:20241019T180000Z
X-MICROSOFT-CDO-ALLDAYEVENT:FALSE
SUMMARY:Smith County Master Gardener Annual From Bulbs to Blooms Conference & Sale
DESCRIPTION:Featuring hard to find heritage\, hardy and locally trialed bulbs\, and a variety of trees and shrubs. This years speaker is Chris Wiesinger of Southern Bulb Co. Seating is limited There will be door prizes\, raffle tickets\, garden art\, books\, and more onsite bulb shopping.
X-ALT-DESC;FMTTYPE=text/html:Featuring hard to find heritage\, hardy and locally trialed bulbs\, and a variety of trees and shrubs. This years speaker is Chris Wiesinger of Southern Bulb Co. Seating is limited There will be door prizes\, raffle tickets\, garden art\, books\, and more onsite bulb shopping.
LOCATION:Pollard Methodist Church 3030 New Copeland Rd Tyler\, TX
UID:e.1648.15812
SEQUENCE:3
DTSTAMP:20260420T090415Z
URL:http://tylerarea.sampleorg.com/events/details/smith-county-master-gardener-annual-from-bulbs-to-blooms-conference-sale-15812
END:VEVENT

END:VCALENDAR
